BEGIN:VCALENDAR
VERSION:2.0
PRODID:-//Public Schools Foundation of Tippecanoe County - ECPv6.15.20//NONSGML v1.0//EN
CALSCALE:GREGORIAN
METHOD:PUBLISH
X-WR-CALNAME:Public Schools Foundation of Tippecanoe County
X-ORIGINAL-URL:https://psftc.org
X-WR-CALDESC:Events for Public Schools Foundation of Tippecanoe County
REFRESH-INTERVAL;VALUE=DURATION:PT1H
X-Robots-Tag:noindex
X-PUBLISHED-TTL:PT1H
BEGIN:VTIMEZONE
TZID:America/Indiana/Indianapolis
BEGIN:DAYLIGHT
TZOFFSETFROM:-0500
TZOFFSETTO:-0400
TZNAME:EDT
DTSTART:20180311T070000
END:DAYLIGHT
BEGIN:STANDARD
TZOFFSETFROM:-0400
TZOFFSETTO:-0500
TZNAME:EST
DTSTART:20181104T060000
END:STANDARD
BEGIN:DAYLIGHT
TZOFFSETFROM:-0500
TZOFFSETTO:-0400
TZNAME:EDT
DTSTART:20190310T070000
END:DAYLIGHT
BEGIN:STANDARD
TZOFFSETFROM:-0400
TZOFFSETTO:-0500
TZNAME:EST
DTSTART:20191103T060000
END:STANDARD
BEGIN:DAYLIGHT
TZOFFSETFROM:-0500
TZOFFSETTO:-0400
TZNAME:EDT
DTSTART:20200308T070000
END:DAYLIGHT
BEGIN:STANDARD
TZOFFSETFROM:-0400
TZOFFSETTO:-0500
TZNAME:EST
DTSTART:20201101T060000
END:STANDARD
BEGIN:DAYLIGHT
TZOFFSETFROM:-0500
TZOFFSETTO:-0400
TZNAME:EDT
DTSTART:20210314T070000
END:DAYLIGHT
BEGIN:STANDARD
TZOFFSETFROM:-0400
TZOFFSETTO:-0500
TZNAME:EST
DTSTART:20211107T060000
END:STANDARD
BEGIN:DAYLIGHT
TZOFFSETFROM:-0500
TZOFFSETTO:-0400
TZNAME:EDT
DTSTART:20220313T070000
END:DAYLIGHT
BEGIN:STANDARD
TZOFFSETFROM:-0400
TZOFFSETTO:-0500
TZNAME:EST
DTSTART:20221106T060000
END:STANDARD
BEGIN:DAYLIGHT
TZOFFSETFROM:-0500
TZOFFSETTO:-0400
TZNAME:EDT
DTSTART:20230312T070000
END:DAYLIGHT
BEGIN:STANDARD
TZOFFSETFROM:-0400
TZOFFSETTO:-0500
TZNAME:EST
DTSTART:20231105T060000
END:STANDARD
BEGIN:DAYLIGHT
TZOFFSETFROM:-0500
TZOFFSETTO:-0400
TZNAME:EDT
DTSTART:20240310T070000
END:DAYLIGHT
BEGIN:STANDARD
TZOFFSETFROM:-0400
TZOFFSETTO:-0500
TZNAME:EST
DTSTART:20241103T060000
END:STANDARD
BEGIN:DAYLIGHT
TZOFFSETFROM:-0500
TZOFFSETTO:-0400
TZNAME:EDT
DTSTART:20250309T070000
END:DAYLIGHT
BEGIN:STANDARD
TZOFFSETFROM:-0400
TZOFFSETTO:-0500
TZNAME:EST
DTSTART:20251102T060000
END:STANDARD
BEGIN:DAYLIGHT
TZOFFSETFROM:-0500
TZOFFSETTO:-0400
TZNAME:EDT
DTSTART:20260308T070000
END:DAYLIGHT
BEGIN:STANDARD
TZOFFSETFROM:-0400
TZOFFSETTO:-0500
TZNAME:EST
DTSTART:20261101T060000
END:STANDARD
END:VTIMEZONE
BEGIN:VEVENT
DTSTART;TZID=America/Indiana/Indianapolis:20250224T100000
DTEND;TZID=America/Indiana/Indianapolis:20250224T103000
DTSTAMP:20260425T124757
CREATED:20250205T135127Z
LAST-MODIFIED:20250205T135127Z
UID:3536-1740391200-1740393000@psftc.org
SUMMARY:Donut Dash/Teachers Treasures Drawing
DESCRIPTION:PSFTC is providing complimentary registration to (10) LSC and (10) TSC teachers for the Donut Dash in Indianapolis on March 22nd. Winners will be selected by random drawing with preference given to teachers that did NOT participate as our guest last year.  Drawing for winners will take place on Monday\, Feb 24. Winners will then receive a promo code to use when registering for the event.  Note you can register as a virtual runner if the event date does not work on your calendar. Free event at a time of your choosing AND receive a $500 shopping trip!! \n\nTSC Teacher Link –  TSC Teacher Link\nLSC Teacher Link –  LSC Teacher Link\nTestimonial from a 2024 participant:\n\n\nI would absolutely do this again! I do not run at all. I hate it. My body is not made for it. But this event was not only so fun\, but also a huge help to me in my first year of teaching! Craft and basic school supplies are not part of my budget\, especially since I teach at a career academy where I need to focus limited funding on bigger machines\, tools\, and supplies for industry skills. The shopping trip was easy\, fun\, and gave me and my students more opportunities through available resources and less time finding simple student/teacher needs. I have even been able to share with other teachers throughout the year knowing that I don’t have to supply my classroom with simple needs myself. I cannot explain enough how much I appreciated this opportunity\, especially since I was barely making enough to support myself and wouldn’t have been able to pay for race registration myself. \n\nI am hopeful to get to run another 5K (and I would never say that for any other race)!\nThank you!\nHayley Grisez\n\n 
URL:https://psftc.org/event/donut-dash-teachers-treasures-drawing/
LOCATION:IN
CATEGORIES:family friendly,free,grant awards,teachers
ATTACH;FMTTYPE=image/jpeg:https://psftc.org/wp-content/uploads/2025/02/donut-dash-2025.jpg
END:VEVENT
BEGIN:VEVENT
DTSTART;TZID=America/Indiana/Indianapolis:20250213T170000
DTEND;TZID=America/Indiana/Indianapolis:20250213T183000
DTSTAMP:20260425T124757
CREATED:20250117T144034Z
LAST-MODIFIED:20250119T220135Z
UID:3524-1739466000-1739471400@psftc.org
SUMMARY:Cupcake Bake Off & Tasting Party
DESCRIPTION:Join us for a FREE cupcake tasting party!\nThis year’s theme is LOVE LETTERS TO LAFAYETTE as we help the City of Lafayette celebrate its bicentenial.\nTeams from the culinary classes at Greater Lafayette Career Academy\, Harrison and McCutcheon will complete for a $1\,000 prize.\nA panel of judges will choose the Best in Show winner\, and YOU can help crown the People’s Choice recipient.\nCome taste all the entries. Doors open at 5p. Winners will be announced at 6:15p. \nSponsored by \n \n \n  \n 
URL:https://psftc.org/event/cupcake-bake-off-tasting-party-3/
LOCATION:Greater Lafayette Career Academy\, 2201 S 18th Street\, Lafayette\, IN\, 47909\, United States
CATEGORIES:culinary arts,cupcakes,family friendly,free,grant awards,high school students,teachers
ATTACH;FMTTYPE=image/jpeg:https://psftc.org/wp-content/uploads/2025/01/Copy-of-2025-Cupcake-Bake-Off_final-Presentation-1.jpg
END:VEVENT
BEGIN:VEVENT
DTSTART;TZID=America/Indiana/Indianapolis:20241121T170000
DTEND;TZID=America/Indiana/Indianapolis:20241121T183000
DTSTAMP:20260425T124757
CREATED:20241119T141112Z
LAST-MODIFIED:20241119T141112Z
UID:3516-1732208400-1732213800@psftc.org
SUMMARY:Fall Grant Reception
DESCRIPTION:
URL:https://psftc.org/event/fall-grant-reception-3/
LOCATION:Ripple & Company\, 1007 Main Street\, Lafayette\, IN\, 47901\, United States
CATEGORIES:free,grant awards,teachers
END:VEVENT
BEGIN:VEVENT
DTSTART;TZID=America/Indiana/Indianapolis:20240514T170000
DTEND;TZID=America/Indiana/Indianapolis:20240514T183000
DTSTAMP:20260425T124757
CREATED:20240411T133208Z
LAST-MODIFIED:20240411T133208Z
UID:3454-1715706000-1715711400@psftc.org
SUMMARY:Spring Grant Reception
DESCRIPTION:Join us as we celebrate our spring grant winners. We are honored to recognized teachers who demonstrate dedication and enthusiasm every day. The projects are unique and engaging and truly help grow a love of learning in students across Tippecanoe County. \nWe invite you to attend and hear first hand what is happening in classrooms in our community.
URL:https://psftc.org/event/spring-grant-reception/
LOCATION:The Whittaker Inn\, 702 W 500 N\, West Lafayette\, IN\, 47906\, United States
CATEGORIES:free,grant awards,teachers
ATTACH;FMTTYPE=image/jpeg:https://psftc.org/wp-content/uploads/2024/04/2024-grant-reception-1.jpg
END:VEVENT
BEGIN:VEVENT
DTSTART;TZID=America/Indiana/Indianapolis:20240215T170000
DTEND;TZID=America/Indiana/Indianapolis:20240215T183000
DTSTAMP:20260425T124757
CREATED:20230116T023729Z
LAST-MODIFIED:20240121T164104Z
UID:3252-1708016400-1708021800@psftc.org
SUMMARY:Cupcake Bake Off & Tasting Party
DESCRIPTION:  \nHere’s what’s at stake in this SWEET competition between Greater Lafayette Career Academy\, Harrison High School\, Jeff High School and McCutcheon High School: \n$1\,000 for “Best in Show” winner\, a cool trophy\, bragging rights AND the winning recipe will be published and shared with over 1\,000 people at the 2024 Cupcake Run. \nTeams must create a cupcake from scratch using ingredients provided by Primient. This year’s theme is “Soda Pop & Candy Shop”. \nIt’s FREE to taste! So join us at the Greater Lafayette Career Academy and sample all the entries. Registration not required. Bring your spare change for the tip jars. Schools get to keep all funds collected. Each person attending will help choose the People’s Choice winner.
URL:https://psftc.org/event/cupcake-bake-off-tasting-party-2/
LOCATION:Greater Lafayette Career Academy\, 2201 S 18th Street\, Lafayette\, IN\, 47909\, United States
CATEGORIES:culinary arts,cupcakes,family friendly,free,high school students
ATTACH;FMTTYPE=image/jpeg:https://psftc.org/wp-content/uploads/2023/01/Tasting-Party-Invite_2024_final-1-e1705855093238.jpg
END:VEVENT
BEGIN:VEVENT
DTSTART;TZID=America/Indiana/Indianapolis:20231109T170000
DTEND;TZID=America/Indiana/Indianapolis:20231109T183000
DTSTAMP:20260425T124757
CREATED:20231109T013900Z
LAST-MODIFIED:20231109T014116Z
UID:3394-1699549200-1699554600@psftc.org
SUMMARY:Fall Grant Reception
DESCRIPTION:Join us for a reception recognizing the fall grant recipients. We’ll hear from eight teachers on what inspired them to submit a proposal and what they hope their students will gain from participating in the activities. \nLight refreshments will be served.
URL:https://psftc.org/event/fall-grant-reception-2/
LOCATION:river city community center\, 2842 Old Hwy 231 S\, Lafayette\, IN\, 47909\, United States
END:VEVENT
BEGIN:VEVENT
DTSTART;TZID=America/Indiana/Indianapolis:20211117T170000
DTEND;TZID=America/Indiana/Indianapolis:20211117T183000
DTSTAMP:20260425T124757
CREATED:20211021T005144Z
LAST-MODIFIED:20211021T005144Z
UID:3036-1637168400-1637173800@psftc.org
SUMMARY:Fall Grant Reception
DESCRIPTION:Join us as we recognize our 2021 fall grant winners and celebrate their enthusiasm for education. Learn how they plan to spend their grant funds and what they hope to accomplish in their classrooms. \nLight refreshments provided by GLCA culinary students. RSVP to cisbell@psftc.org
URL:https://psftc.org/event/fall-grant-reception/
LOCATION:Greater Lafayette Career Academy\, 2201 S 18th Street\, Lafayette\, IN\, 47909\, United States
ATTACH;FMTTYPE=image/jpeg:https://psftc.org/wp-content/uploads/2021/10/2021-Fall-Grant-Reception-B.jpg
END:VEVENT
BEGIN:VEVENT
DTSTART;TZID=America/Indiana/Indianapolis:20210919T093000
DTEND;TZID=America/Indiana/Indianapolis:20210919T120000
DTSTAMP:20260425T124757
CREATED:20210305T024634Z
LAST-MODIFIED:20230615T185740Z
UID:2809-1632043800-1632052800@psftc.org
SUMMARY:Cupcake Run for Public Ed
DESCRIPTION:Registration is open.\nSign up today. \nBecome a Cupcake Run Sponsor \nPlans are underway for an in-person Cupcake Run 2021\, and we couldn’t be more excited! We are looking forward to safely gathering at Cumberland Park to showcase the community’s support of public education. Rest assured we are working closely with Fun-Races\, West Lafayette Parks Department\, West Lafayette Fire and Police Departments as well as the Tippecanoe County Health Department to ensure the safety of all participants and volunteers. \nWe have two distance options\, 10k and 5k\, as well as the ever popular Kids Fun Run. You can also choose to do any of the events virtually. All participants get a cool shirt\, finishers medal and a Gigi’s cupcake and your participation will benefit local teachers who need our support now more than ever! \nClick here for all the details:  https://runsignup.com/Race/IN/WestLafayette/CupcakeRunWalkforPublicEducation \nThis race benefits the Public Schools Foundation of Tippecanoe County.  Our mission is to promote excellence in education and encourage classroom innovation by providing grants in academics and the arts to teachers in the public schools in Tippecanoe County. \nNEW IN 2021: Our race colors this year are Maroon and Sandstone.  Want to upgrade to a unisex tech shirt?  That option is available for a $10 fee.  Want to personalize your bib?  You can\, for no additional fee! \n\nSCHOOL PARTICIPATION CONTEST:  If you are a teacher\, student\, or school employee\, please indicate as such on your registration\, as well as what school you represent. The school with the most participants will receive a traveling trophy.  Help out your school and get as many friends/coworkers to participate and win that trophy. \nPACKET PICKUP: Saturday Sept 18. Details coming soon but plan for it to be drive-through format. It worked so well for our 2020 event\, we’re going to do it again! \nConsider making a donation when you register. Each gift received up to $2\,021 will be matched by Duke Energy! Those small gifts will really add up to a big impact for teachers and students!! \n\nBecome a Cupcake Run Sponsor!
URL:https://psftc.org/event/2021-cupcake-run-for-public-ed/
LOCATION:Cumberland Park\, 3101 N. Salisbury St\, West Lafayette\, IN\, 47906\, United States
ATTACH;FMTTYPE=image/jpeg:https://psftc.org/wp-content/uploads/2020/03/Cupcake-Run-2021_shirt_V3-1-scaled.jpg
END:VEVENT
BEGIN:VEVENT
DTSTART;TZID=America/Indiana/Indianapolis:20200507T170000
DTEND;TZID=America/Indiana/Indianapolis:20200507T183000
DTSTAMP:20260425T124757
CREATED:20200305T023803Z
LAST-MODIFIED:20200413T203023Z
UID:2805-1588870800-1588876200@psftc.org
SUMMARY:Spring Seeds for Excellence Grant Reception
DESCRIPTION:With regrets\, we have canceled our spring grant reception. While we won’t gather in person\, we will still be awarding money to some fantastic projects. Details about our recipients will be available soon. Sign up for our newsletter and follow us on Facebook to be sure to stay in the know. 
URL:https://psftc.org/event/spring-seeds-for-excellence-grant-reception/
LOCATION:The History Center\, 522 Columbia Street\, Lafayette\, Indiana\, 47901
ATTACH;FMTTYPE=image/jpeg:https://psftc.org/wp-content/uploads/2019/03/PSF-event-option2.jpg
END:VEVENT
BEGIN:VEVENT
DTSTART;TZID=America/Indiana/Indianapolis:20190925T170000
DTEND;TZID=America/Indiana/Indianapolis:20190925T183000
DTSTAMP:20260425T124757
CREATED:20190818T140346Z
LAST-MODIFIED:20190902T000223Z
UID:2647-1569430800-1569436200@psftc.org
SUMMARY:Cupcake Bake Off ~ Tasting Party
DESCRIPTION:Join us on Wednesday\, September 25th for a Cupcake Tasting party\, the culminating event of our high school Cupcake Bake Off Challenge. Teams from each of the four public high schools have teamed up with a local bakery to create a cupcake entry using specific products provided by Tate & Lyle. \nCulinary experts will award a Best of Show prize\, and the Tasting Party is YOUR chance to sample the entries and help crown the People’s Choice winner.  Bonus: MBAH Insurance will match tip jar donations. There’s nothing better than doubling your impact!! \nThis event is FREE and open to the community! \n   \n 
URL:https://psftc.org/event/cupcake-tasting-party/
LOCATION:Ivy Tech Community College\, 3101 South Creasy Lane\, Lafayette\, IN\, 47909\, United States
ATTACH;FMTTYPE=image/jpeg:https://psftc.org/wp-content/uploads/2019/08/40940566_10156253546746321_1226859469686702080_n.jpg
END:VEVENT
BEGIN:VEVENT
DTSTART;TZID=America/Indiana/Indianapolis:20190922T093000
DTEND;TZID=America/Indiana/Indianapolis:20190922T120000
DTSTAMP:20260425T124757
CREATED:20190328T192000Z
LAST-MODIFIED:20230615T185703Z
UID:2360-1569144600-1569153600@psftc.org
SUMMARY:Cupcake Run/Walk
DESCRIPTION:Registration is open.\nSign up today. \nJoin us on September 22 for the fourth annual Cupcake Run/Walk in West Lafayette.  This will be a chip-timed 5K and 10K on a beautiful course.  We will also be offering a short\, untimed kids run of about 80 yards.  Each participant will receive a t-shirt\, participant medal and cupcake from Gigi’s.  This race benefits the Public Schools Foundation of Tippecanoe County.  Our mission is to promote excellence in education and encourage classroom innovation by providing grants in academics and the arts to teachers in the public schools in Tippecanoe County. \n\nRETURNING PARTICIPANTS: please note that due to scheduled construction projects at Cumberland Park\, the route has been slightly modified from previous years. \nNEW IN 2019: Our race colors this year are black\, pink\, and white.  The participant t-shirt will be black with a pink and white logo.  Want to upgrade to a unisex tech shirt?  That option is available for a $10 fee.  Want to personalize your bib?  You can\, for no additional fee. \nSCHOOL PARTICIPATION CONTEST:  If you are a teacher\, student\, or school employee\, please indicate as such on your registration\, as well as what school you represent. The school with the most participants will receive a traveling trophy.  Help out your school and get as many friends/coworkers to participate and win that trophy.  Are you a teacher?  The fastest male teacher and the fastest female teacher will each receive a special award. \nPACKET PICKUP: Saturday Sept 21 from 2:00 – 7:00 pm at Gigi’s Cupcakes.  170 S Creasy Ln Ste 1710\, Lafayette\, IN 47905. \nPACKET PICKUP: Sunday Sept 22 will open at 8:00 am at Cumberland Park.
URL:https://psftc.org/event/cupcake-run-walk-2019/
LOCATION:Cumberland Park\, 3101 N. Salisbury St\, West Lafayette\, IN\, 47906\, United States
ATTACH;FMTTYPE=image/jpeg:https://psftc.org/wp-content/uploads/2019/03/PSFTC_Cupcake-Run-Logo-2019_Black_Date.jpg
END:VEVENT
BEGIN:VEVENT
DTSTART;TZID=America/Indiana/Indianapolis:20190606T141500
DTEND;TZID=America/Indiana/Indianapolis:20190606T151500
DTSTAMP:20260425T124757
CREATED:20190528T175219Z
LAST-MODIFIED:20190528T175219Z
UID:2583-1559830500-1559834100@psftc.org
SUMMARY:Grant Writing Workshop B
DESCRIPTION:Here’s My Idea: What Do You Think? – Gina Boyd – 2:15 on Thursday\, June 6 as part of the IGNITE Conference \nOur panel of experienced and successful grant writers will provide feedback and specific suggestions on your idea for a classroom or school wide project that needs funding – think speed dating for grant writing. Panelists include Gina Boyd\, Debbie Beckett and Alyce Myers.
URL:https://psftc.org/event/grant-writing-workshop-b/
LOCATION:Lafayette Sunnyside Intermediate School\, 530 N. 26th Street\, Lafayette\, IN\, 47904\, United States
ATTACH;FMTTYPE=image/jpeg:https://psftc.org/wp-content/uploads/2019/05/Workshop3.jpg
END:VEVENT
BEGIN:VEVENT
DTSTART;TZID=America/Indiana/Indianapolis:20190606T121500
DTEND;TZID=America/Indiana/Indianapolis:20190606T121500
DTSTAMP:20260425T124757
CREATED:20190528T174507Z
LAST-MODIFIED:20190528T174507Z
UID:2576-1559823300-1559823300@psftc.org
SUMMARY:Grant Writing Workshop
DESCRIPTION:Let’s Find Some Funding: 11 Tips for Grant Success – Christine Isbell\, Gina Boyd – 12:15 on Thursday\, June 6 as part of the IGNITE Conference \nCome to this session for an introduction to grant writing. Learn about grant writing tips\, techniques\, and best practices. Learn why a catchy title can make a difference\, how to develop an award-winning abstract\, what kind of research is necessary to get an idea funded and why\, after identifying what the need is\, it’s important to take two steps back and think about how to get there.
URL:https://psftc.org/event/grant-writing-workshop/
LOCATION:Lafayette Sunnyside Intermediate School\, 530 N\, 26th Street\, Lafayette\, IN\, 47904\, United States
ATTACH;FMTTYPE=image/jpeg:https://psftc.org/wp-content/uploads/2019/05/IMG_0777.jpg
END:VEVENT
BEGIN:VEVENT
DTSTART;TZID=America/Indiana/Indianapolis:20190514T170000
DTEND;TZID=America/Indiana/Indianapolis:20190514T183000
DTSTAMP:20260425T124757
CREATED:20190410T150129Z
LAST-MODIFIED:20190502T182658Z
UID:2433-1557853200-1557858600@psftc.org
SUMMARY:Seeds for Excellence Grant Reception
DESCRIPTION:Join us as we recognize our spring grant recipients and celebrate teachers who create enthusiasm and creativity in the classroom. \nPlease RSVP to cisbell@psftc.org
URL:https://psftc.org/event/seeds-for-excellence-grant-reception/
LOCATION:Art Musuem of Greater Lafayette\, 102 South 10th Street\, Lafayette\, IN
END:VEVENT
END:VCALENDAR