BEGIN:VCALENDAR
VERSION:2.0
PRODID:-//Public Schools Foundation of Tippecanoe County - ECPv6.15.20//NONSGML v1.0//EN
CALSCALE:GREGORIAN
METHOD:PUBLISH
X-WR-CALNAME:Public Schools Foundation of Tippecanoe County
X-ORIGINAL-URL:https://psftc.org
X-WR-CALDESC:Events for Public Schools Foundation of Tippecanoe County
REFRESH-INTERVAL;VALUE=DURATION:PT1H
X-Robots-Tag:noindex
X-PUBLISHED-TTL:PT1H
BEGIN:VTIMEZONE
TZID:America/Indiana/Indianapolis
BEGIN:DAYLIGHT
TZOFFSETFROM:-0500
TZOFFSETTO:-0400
TZNAME:EDT
DTSTART:20180311T070000
END:DAYLIGHT
BEGIN:STANDARD
TZOFFSETFROM:-0400
TZOFFSETTO:-0500
TZNAME:EST
DTSTART:20181104T060000
END:STANDARD
BEGIN:DAYLIGHT
TZOFFSETFROM:-0500
TZOFFSETTO:-0400
TZNAME:EDT
DTSTART:20190310T070000
END:DAYLIGHT
BEGIN:STANDARD
TZOFFSETFROM:-0400
TZOFFSETTO:-0500
TZNAME:EST
DTSTART:20191103T060000
END:STANDARD
BEGIN:DAYLIGHT
TZOFFSETFROM:-0500
TZOFFSETTO:-0400
TZNAME:EDT
DTSTART:20200308T070000
END:DAYLIGHT
BEGIN:STANDARD
TZOFFSETFROM:-0400
TZOFFSETTO:-0500
TZNAME:EST
DTSTART:20201101T060000
END:STANDARD
BEGIN:DAYLIGHT
TZOFFSETFROM:-0500
TZOFFSETTO:-0400
TZNAME:EDT
DTSTART:20210314T070000
END:DAYLIGHT
BEGIN:STANDARD
TZOFFSETFROM:-0400
TZOFFSETTO:-0500
TZNAME:EST
DTSTART:20211107T060000
END:STANDARD
END:VTIMEZONE
BEGIN:VEVENT
DTSTART;TZID=America/Indiana/Indianapolis:20200507T170000
DTEND;TZID=America/Indiana/Indianapolis:20200507T183000
DTSTAMP:20260425T120837
CREATED:20200305T023803Z
LAST-MODIFIED:20200413T203023Z
UID:2805-1588870800-1588876200@psftc.org
SUMMARY:Spring Seeds for Excellence Grant Reception
DESCRIPTION:With regrets\, we have canceled our spring grant reception. While we won’t gather in person\, we will still be awarding money to some fantastic projects. Details about our recipients will be available soon. Sign up for our newsletter and follow us on Facebook to be sure to stay in the know. 
URL:https://psftc.org/event/spring-seeds-for-excellence-grant-reception/
LOCATION:The History Center\, 522 Columbia Street\, Lafayette\, Indiana\, 47901
ATTACH;FMTTYPE=image/jpeg:https://psftc.org/wp-content/uploads/2019/03/PSF-event-option2.jpg
END:VEVENT
BEGIN:VEVENT
DTSTART;TZID=America/Indiana/Indianapolis:20190925T170000
DTEND;TZID=America/Indiana/Indianapolis:20190925T183000
DTSTAMP:20260425T120837
CREATED:20190818T140346Z
LAST-MODIFIED:20190902T000223Z
UID:2647-1569430800-1569436200@psftc.org
SUMMARY:Cupcake Bake Off ~ Tasting Party
DESCRIPTION:Join us on Wednesday\, September 25th for a Cupcake Tasting party\, the culminating event of our high school Cupcake Bake Off Challenge. Teams from each of the four public high schools have teamed up with a local bakery to create a cupcake entry using specific products provided by Tate & Lyle. \nCulinary experts will award a Best of Show prize\, and the Tasting Party is YOUR chance to sample the entries and help crown the People’s Choice winner.  Bonus: MBAH Insurance will match tip jar donations. There’s nothing better than doubling your impact!! \nThis event is FREE and open to the community! \n   \n 
URL:https://psftc.org/event/cupcake-tasting-party/
LOCATION:Ivy Tech Community College\, 3101 South Creasy Lane\, Lafayette\, IN\, 47909\, United States
ATTACH;FMTTYPE=image/jpeg:https://psftc.org/wp-content/uploads/2019/08/40940566_10156253546746321_1226859469686702080_n.jpg
END:VEVENT
BEGIN:VEVENT
DTSTART;TZID=America/Indiana/Indianapolis:20190922T093000
DTEND;TZID=America/Indiana/Indianapolis:20190922T120000
DTSTAMP:20260425T120837
CREATED:20190328T192000Z
LAST-MODIFIED:20230615T185703Z
UID:2360-1569144600-1569153600@psftc.org
SUMMARY:Cupcake Run/Walk
DESCRIPTION:Registration is open.\nSign up today. \nJoin us on September 22 for the fourth annual Cupcake Run/Walk in West Lafayette.  This will be a chip-timed 5K and 10K on a beautiful course.  We will also be offering a short\, untimed kids run of about 80 yards.  Each participant will receive a t-shirt\, participant medal and cupcake from Gigi’s.  This race benefits the Public Schools Foundation of Tippecanoe County.  Our mission is to promote excellence in education and encourage classroom innovation by providing grants in academics and the arts to teachers in the public schools in Tippecanoe County. \n\nRETURNING PARTICIPANTS: please note that due to scheduled construction projects at Cumberland Park\, the route has been slightly modified from previous years. \nNEW IN 2019: Our race colors this year are black\, pink\, and white.  The participant t-shirt will be black with a pink and white logo.  Want to upgrade to a unisex tech shirt?  That option is available for a $10 fee.  Want to personalize your bib?  You can\, for no additional fee. \nSCHOOL PARTICIPATION CONTEST:  If you are a teacher\, student\, or school employee\, please indicate as such on your registration\, as well as what school you represent. The school with the most participants will receive a traveling trophy.  Help out your school and get as many friends/coworkers to participate and win that trophy.  Are you a teacher?  The fastest male teacher and the fastest female teacher will each receive a special award. \nPACKET PICKUP: Saturday Sept 21 from 2:00 – 7:00 pm at Gigi’s Cupcakes.  170 S Creasy Ln Ste 1710\, Lafayette\, IN 47905. \nPACKET PICKUP: Sunday Sept 22 will open at 8:00 am at Cumberland Park.
URL:https://psftc.org/event/cupcake-run-walk-2019/
LOCATION:Cumberland Park\, 3101 N. Salisbury St\, West Lafayette\, IN\, 47906\, United States
ATTACH;FMTTYPE=image/jpeg:https://psftc.org/wp-content/uploads/2019/03/PSFTC_Cupcake-Run-Logo-2019_Black_Date.jpg
END:VEVENT
BEGIN:VEVENT
DTSTART;TZID=America/Indiana/Indianapolis:20190606T141500
DTEND;TZID=America/Indiana/Indianapolis:20190606T151500
DTSTAMP:20260425T120837
CREATED:20190528T175219Z
LAST-MODIFIED:20190528T175219Z
UID:2583-1559830500-1559834100@psftc.org
SUMMARY:Grant Writing Workshop B
DESCRIPTION:Here’s My Idea: What Do You Think? – Gina Boyd – 2:15 on Thursday\, June 6 as part of the IGNITE Conference \nOur panel of experienced and successful grant writers will provide feedback and specific suggestions on your idea for a classroom or school wide project that needs funding – think speed dating for grant writing. Panelists include Gina Boyd\, Debbie Beckett and Alyce Myers.
URL:https://psftc.org/event/grant-writing-workshop-b/
LOCATION:Lafayette Sunnyside Intermediate School\, 530 N. 26th Street\, Lafayette\, IN\, 47904\, United States
ATTACH;FMTTYPE=image/jpeg:https://psftc.org/wp-content/uploads/2019/05/Workshop3.jpg
END:VEVENT
BEGIN:VEVENT
DTSTART;TZID=America/Indiana/Indianapolis:20190606T121500
DTEND;TZID=America/Indiana/Indianapolis:20190606T121500
DTSTAMP:20260425T120837
CREATED:20190528T174507Z
LAST-MODIFIED:20190528T174507Z
UID:2576-1559823300-1559823300@psftc.org
SUMMARY:Grant Writing Workshop
DESCRIPTION:Let’s Find Some Funding: 11 Tips for Grant Success – Christine Isbell\, Gina Boyd – 12:15 on Thursday\, June 6 as part of the IGNITE Conference \nCome to this session for an introduction to grant writing. Learn about grant writing tips\, techniques\, and best practices. Learn why a catchy title can make a difference\, how to develop an award-winning abstract\, what kind of research is necessary to get an idea funded and why\, after identifying what the need is\, it’s important to take two steps back and think about how to get there.
URL:https://psftc.org/event/grant-writing-workshop/
LOCATION:Lafayette Sunnyside Intermediate School\, 530 N\, 26th Street\, Lafayette\, IN\, 47904\, United States
ATTACH;FMTTYPE=image/jpeg:https://psftc.org/wp-content/uploads/2019/05/IMG_0777.jpg
END:VEVENT
BEGIN:VEVENT
DTSTART;TZID=America/Indiana/Indianapolis:20190514T170000
DTEND;TZID=America/Indiana/Indianapolis:20190514T183000
DTSTAMP:20260425T120837
CREATED:20190410T150129Z
LAST-MODIFIED:20190502T182658Z
UID:2433-1557853200-1557858600@psftc.org
SUMMARY:Seeds for Excellence Grant Reception
DESCRIPTION:Join us as we recognize our spring grant recipients and celebrate teachers who create enthusiasm and creativity in the classroom. \nPlease RSVP to cisbell@psftc.org
URL:https://psftc.org/event/seeds-for-excellence-grant-reception/
LOCATION:Art Musuem of Greater Lafayette\, 102 South 10th Street\, Lafayette\, IN
END:VEVENT
END:VCALENDAR