BEGIN:VCALENDAR
VERSION:2.0
PRODID:-//Public Schools Foundation of Tippecanoe County - ECPv6.15.20//NONSGML v1.0//EN
CALSCALE:GREGORIAN
METHOD:PUBLISH
X-ORIGINAL-URL:https://psftc.org
X-WR-CALDESC:Events for Public Schools Foundation of Tippecanoe County
REFRESH-INTERVAL;VALUE=DURATION:PT1H
X-Robots-Tag:noindex
X-PUBLISHED-TTL:PT1H
BEGIN:VTIMEZONE
TZID:America/Indiana/Indianapolis
BEGIN:DAYLIGHT
TZOFFSETFROM:-0500
TZOFFSETTO:-0400
TZNAME:EDT
DTSTART:20240310T070000
END:DAYLIGHT
BEGIN:STANDARD
TZOFFSETFROM:-0400
TZOFFSETTO:-0500
TZNAME:EST
DTSTART:20241103T060000
END:STANDARD
BEGIN:DAYLIGHT
TZOFFSETFROM:-0500
TZOFFSETTO:-0400
TZNAME:EDT
DTSTART:20250309T070000
END:DAYLIGHT
BEGIN:STANDARD
TZOFFSETFROM:-0400
TZOFFSETTO:-0500
TZNAME:EST
DTSTART:20251102T060000
END:STANDARD
BEGIN:DAYLIGHT
TZOFFSETFROM:-0500
TZOFFSETTO:-0400
TZNAME:EDT
DTSTART:20260308T070000
END:DAYLIGHT
BEGIN:STANDARD
TZOFFSETFROM:-0400
TZOFFSETTO:-0500
TZNAME:EST
DTSTART:20261101T060000
END:STANDARD
END:VTIMEZONE
BEGIN:VEVENT
DTSTART;TZID=America/Indiana/Indianapolis:20251118T170000
DTEND;TZID=America/Indiana/Indianapolis:20251118T183000
DTSTAMP:20260424T214351
CREATED:20251110T021606Z
LAST-MODIFIED:20251110T021606Z
UID:3710-1763485200-1763490600@psftc.org
SUMMARY:Fall Grant Reception
DESCRIPTION:Join us as we recognize our 2025 fall Seeds for Excellence grant recipients. \nWe will award funding to nine unique projects across a variety of subject areas. Hear first hand from the teachers on what they will do with the new resources and what they hope their students will learn from this new experience.
URL:https://psftc.org/event/fall-grant-reception-4/
LOCATION:TSC Administration Center\, 20 Elston Road\, Lafayette\, IN\, 47909\, United States
CATEGORIES:free,grant awards,teachers
ATTACH;FMTTYPE=image/jpeg:https://psftc.org/wp-content/uploads/2025/11/Brown-Rustic-Watercolour-Autumn-Flowers-Wedding-Invitation.jpg
END:VEVENT
END:VCALENDAR