BEGIN:VCALENDAR
VERSION:2.0
PRODID:-//Public Schools Foundation of Tippecanoe County - ECPv6.15.20//NONSGML v1.0//EN
CALSCALE:GREGORIAN
METHOD:PUBLISH
X-WR-CALNAME:Public Schools Foundation of Tippecanoe County
X-ORIGINAL-URL:https://psftc.org
X-WR-CALDESC:Events for Public Schools Foundation of Tippecanoe County
REFRESH-INTERVAL;VALUE=DURATION:PT1H
X-Robots-Tag:noindex
X-PUBLISHED-TTL:PT1H
BEGIN:VTIMEZONE
TZID:America/Indiana/Indianapolis
BEGIN:DAYLIGHT
TZOFFSETFROM:-0500
TZOFFSETTO:-0400
TZNAME:EDT
DTSTART:20250309T070000
END:DAYLIGHT
BEGIN:STANDARD
TZOFFSETFROM:-0400
TZOFFSETTO:-0500
TZNAME:EST
DTSTART:20251102T060000
END:STANDARD
BEGIN:DAYLIGHT
TZOFFSETFROM:-0500
TZOFFSETTO:-0400
TZNAME:EDT
DTSTART:20260308T070000
END:DAYLIGHT
BEGIN:STANDARD
TZOFFSETFROM:-0400
TZOFFSETTO:-0500
TZNAME:EST
DTSTART:20261101T060000
END:STANDARD
BEGIN:DAYLIGHT
TZOFFSETFROM:-0500
TZOFFSETTO:-0400
TZNAME:EDT
DTSTART:20270314T070000
END:DAYLIGHT
BEGIN:STANDARD
TZOFFSETFROM:-0400
TZOFFSETTO:-0500
TZNAME:EST
DTSTART:20271107T060000
END:STANDARD
END:VTIMEZONE
BEGIN:VEVENT
DTSTART;TZID=America/Indiana/Indianapolis:20260213T170000
DTEND;TZID=America/Indiana/Indianapolis:20260213T183000
DTSTAMP:20260424T150427
CREATED:20260106T142324Z
LAST-MODIFIED:20260106T142508Z
UID:3723-1771002000-1771007400@psftc.org
SUMMARY:Cupcake Bake Off Tasting Party!
DESCRIPTION:The 2026 Cupcake Bake Off Challenge is here! Culinary teams from Greater Lafayette Career Academy\, Harrison High School\, Jefferson High School and McCutcheon High School are competing for a $1\,000 prize – plus a cool trophy & bragging rights. \nJoin us for the official judging & TASTING PARTY! That’s right\, you can taste all of the entries and even help crown the People’s Choice winner. Tasting is FREE and teams will collect tips to help support the culinary classrooms.
URL:https://psftc.org/event/cupcake-bake-off-tasting-party-4/
LOCATION:Harrison High School\, 5701 N 50 W\, West Lafayette\, IN\, 47906\, United States
CATEGORIES:culinary arts,cupcakes,family friendly,free,high school students,teachers
ATTACH;FMTTYPE=image/jpeg:https://psftc.org/wp-content/uploads/2026/01/2026-Bake-Off-5-x-7-in.jpg
END:VEVENT
BEGIN:VEVENT
DTSTART;TZID=America/Indiana/Indianapolis:20260223T170000
DTEND;TZID=America/Indiana/Indianapolis:20260223T170000
DTSTAMP:20260424T150427
CREATED:20260127T031443Z
LAST-MODIFIED:20260127T031443Z
UID:3740-1771866000-1771866000@psftc.org
SUMMARY:Free Supplies for your Classroom / Donut Dash Drawing
DESCRIPTION:PSFTC and the West Lafayette Schools Education Foundation are partnering with Teachers’ Treasures to help get Tippecanoe County teachers classroom supplies. We are providing thirty complimentary registrations to the 2026 Circle City Donut Dash – 10 for LSC teachers\, 10 for TSC teachers  and 10 for WLCSC teachers. Each teacher participating will receive a shopping voucher for a trip to the Teachers’ Treasures store in Indianapolis\, where you can walk away with up to $500 worth of classroom supplies. That’s right – get registered for FREE and receive $500 WORTH OF SUPPLIES!  \nThe Donut Dash takes place on Sat March 21\, 2026 at the Fowling Warehouse\, 1125 E Brookside Avenue in Indianapolis. This is not your ordinary 5k and there are several options for participation. You can choose to do the donut challenge (consuming donut holes is involved)\, the non-donut challenge\, and you can even participate virtually (choose your own date and route). Learn more about the event here https://runsignup.com/Race/IN/Indianapolis/CircleCityDonutDash \nIf you’d like to submit your name for a chance for the free registration\, compliments of PSFTC and WLCSC\, please complete the google form (link below). Teachers\, administrators\, counselors\, nurses – you’re all eligible! First come\, first serve (with preference given to teachers that did not participate as our guest last year – but all teachers are encouraged to sign up). We will announce ten winners for each district on Tuesday\, Feb 24.  \nhttps://docs.google.com/forms/d/e/1FAIpQLSf_77liLX87MGQvMhtqnszYfFf3bvUapbZ-XulXfOuRN_3xRQ/viewform?usp=sharing&ouid=114360604060736717679\n—————-
URL:https://psftc.org/event/free-supplies-for-your-classroom-donut-dash-drawing/
LOCATION:the date listed here is the deadline to register. The Donut Dash takes place on March 21st.
CATEGORIES:classroom supplies,donuts,family friendly,free,teachers
ATTACH;FMTTYPE=image/jpeg:https://psftc.org/wp-content/uploads/2026/01/donut-dash-2026-resized.jpg
END:VEVENT
END:VCALENDAR